BEGIN:VCALENDAR
VERSION:2.0
PRODID:-//Ligue Île-de-France de Badminton - ECPv6.5.1.6//NONSGML v1.0//EN
CALSCALE:GREGORIAN
METHOD:PUBLISH
X-WR-CALNAME:Ligue Île-de-France de Badminton
X-ORIGINAL-URL:https://www.lifb.org
X-WR-CALDESC:évènements pour Ligue Île-de-France de Badminton
REFRESH-INTERVAL;VALUE=DURATION:PT1H
X-Robots-Tag:noindex
X-PUBLISHED-TTL:PT1H
BEGIN:VTIMEZONE
TZID:Europe/Paris
BEGIN:DAYLIGHT
TZOFFSETFROM:+0100
TZOFFSETTO:+0200
TZNAME:CEST
DTSTART:20240331T010000
END:DAYLIGHT
BEGIN:STANDARD
TZOFFSETFROM:+0200
TZOFFSETTO:+0100
TZNAME:CET
DTSTART:20241027T010000
END:STANDARD
END:VTIMEZONE
BEGIN:VEVENT
DTSTART;VALUE=DATE:20241005
DTEND;VALUE=DATE:20241007
DTSTAMP:20260423T190330
CREATED:20240617T122112Z
LAST-MODIFIED:20240618T084919Z
UID:19116-1728086400-1728259199@www.lifb.org
SUMMARY:Interclubs Régionaux (ICR) - Journée n°1
DESCRIPTION:
URL:https://www.lifb.org/evenement/interclubs-regionaux-icr-journee-n1/
LOCATION:A définir
CATEGORIES:Compétitions Ligue
END:VEVENT
BEGIN:VEVENT
DTSTART;VALUE=DATE:20241007
DTEND;VALUE=DATE:20241012
DTSTAMP:20260423T190330
CREATED:20240912T094332Z
LAST-MODIFIED:20240912T094332Z
UID:20046-1728259200-1728691199@www.lifb.org
SUMMARY:Semaine du Sport à l'Hôpital
DESCRIPTION:
URL:https://www.lifb.org/evenement/semaine-du-sport-a-lhopital-2/
CATEGORIES:Développement
END:VEVENT
BEGIN:VEVENT
DTSTART;VALUE=DATE:20241007
DTEND;VALUE=DATE:20241014
DTSTAMP:20260423T190330
CREATED:20240912T095403Z
LAST-MODIFIED:20240923T132502Z
UID:20065-1728259200-1728863999@www.lifb.org
SUMMARY:YONEX BWF World Junior Championships 2024
DESCRIPTION:
URL:https://www.lifb.org/evenement/yonex-bwf-world-junior-championships-2024/
LOCATION:Nanchang\, Nanchang\, Chine
CATEGORIES:Compétition Internationales
END:VEVENT
BEGIN:VEVENT
DTSTART;VALUE=DATE:20241008
DTEND;VALUE=DATE:20241009
DTSTAMP:20260423T190330
CREATED:20240912T094520Z
LAST-MODIFIED:20240912T094520Z
UID:20051-1728345600-1728431999@www.lifb.org
SUMMARY:Du Stade Vers l'Emploi à Bagneux (92)
DESCRIPTION:
URL:https://www.lifb.org/evenement/du-stade-vers-lemploi-a-bagneux-92/
LOCATION:Bagneux\, Bagneux\, 92
CATEGORIES:Développement
END:VEVENT
BEGIN:VEVENT
DTSTART;VALUE=DATE:20241009
DTEND;VALUE=DATE:20241010
DTSTAMP:20260423T190330
CREATED:20240912T094424Z
LAST-MODIFIED:20240912T094424Z
UID:20048-1728432000-1728518399@www.lifb.org
SUMMARY:Intervention à l'Hôpital Saint-Louis - Paris X
DESCRIPTION:
URL:https://www.lifb.org/evenement/intervention-a-lhopital-saint-louis-paris-x/
LOCATION:Paris 10e\, Paris\, 75010
CATEGORIES:Développement
END:VEVENT
BEGIN:VEVENT
DTSTART;VALUE=DATE:20241009
DTEND;VALUE=DATE:20241014
DTSTAMP:20260423T190330
CREATED:20240912T095455Z
LAST-MODIFIED:20240912T095455Z
UID:20068-1728432000-1728863999@www.lifb.org
SUMMARY:YONEX German Ruhr U17 International 2024
DESCRIPTION:
URL:https://www.lifb.org/evenement/yonex-german-ruhr-u17-international-2024/
LOCATION:Mülheim\, Mülheim\, Allemagne
CATEGORIES:Compétition Internationales
END:VEVENT
BEGIN:VEVENT
DTSTART;TZID=Europe/Paris:20241009T080000
DTEND;TZID=Europe/Paris:20241013T170000
DTSTAMP:20260423T190330
CREATED:20240912T095534Z
LAST-MODIFIED:20240912T095534Z
UID:20070-1728460800-1728838800@www.lifb.org
SUMMARY:YONEX German Ruhr U19 International 2024
DESCRIPTION:
URL:https://www.lifb.org/evenement/yonex-german-ruhr-u19-international-2024/
LOCATION:Mülheim\, Mülheim\, Allemagne
CATEGORIES:Compétition Internationales
END:VEVENT
BEGIN:VEVENT
DTSTART;VALUE=DATE:20241012
DTEND;VALUE=DATE:20241014
DTSTAMP:20260423T190330
CREATED:20240617T124145Z
LAST-MODIFIED:20240726T125032Z
UID:19134-1728691200-1728863999@www.lifb.org
SUMMARY:Circuit Régional Jeunes (CRJ) n°1
DESCRIPTION:
URL:https://www.lifb.org/evenement/circuit-regional-jeunes-crj-n1/
LOCATION:Ezanville\, Ezanville
CATEGORIES:Compétitions Ligue
END:VEVENT
BEGIN:VEVENT
DTSTART;VALUE=DATE:20241018
DTEND;VALUE=DATE:20241021
DTSTAMP:20260423T190330
CREATED:20240617T134436Z
LAST-MODIFIED:20240618T085034Z
UID:19187-1729209600-1729468799@www.lifb.org
SUMMARY:Circuit Elite Jeunes (CEJ) n°1
DESCRIPTION:
URL:https://www.lifb.org/evenement/circuit-elite-jeunes-cej-n1/
LOCATION:A définir
CATEGORIES:Compétitions Fédérales
END:VEVENT
BEGIN:VEVENT
DTSTART;VALUE=DATE:20241019
DTEND;VALUE=DATE:20241021
DTSTAMP:20260423T190330
CREATED:20240912T114250Z
LAST-MODIFIED:20240912T114250Z
UID:20082-1729296000-1729468799@www.lifb.org
SUMMARY:Formation GEO 1 à Paris (75)
DESCRIPTION:
URL:https://www.lifb.org/evenement/formation-geo-1-a-paris-75/
LOCATION:Paris\, PARIS\, 75000
CATEGORIES:Formations GEO
END:VEVENT
BEGIN:VEVENT
DTSTART;VALUE=DATE:20241019
DTEND;VALUE=DATE:20241021
DTSTAMP:20260423T190330
CREATED:20240912T114325Z
LAST-MODIFIED:20240912T114325Z
UID:20085-1729296000-1729468799@www.lifb.org
SUMMARY:Formation GEO 1 à Mennecy (91)
DESCRIPTION:
URL:https://www.lifb.org/evenement/formation-geo-1-a-mennecy-91/
LOCATION:Mennecy\, Mennecy\, France
CATEGORIES:Formations GEO
END:VEVENT
BEGIN:VEVENT
DTSTART;VALUE=DATE:20241019
DTEND;VALUE=DATE:20241021
DTSTAMP:20260423T190330
CREATED:20241001T110158Z
LAST-MODIFIED:20241008T074739Z
UID:20255-1729296000-1729468799@www.lifb.org
SUMMARY:Examen Arbitre de Ligue Accrédité (77)
DESCRIPTION:
URL:https://www.lifb.org/evenement/examen-arbitre-de-ligue-accredite-77/
LOCATION:Ozoir\, Ozoir-la-Ferrière\, 77330
CATEGORIES:Formations OT
END:VEVENT
BEGIN:VEVENT
DTSTART;VALUE=DATE:20241019
DTEND;VALUE=DATE:20241021
DTSTAMP:20260423T190330
CREATED:20240617T124243Z
LAST-MODIFIED:20240909T104802Z
UID:19136-1729296000-1729468799@www.lifb.org
SUMMARY:Tournoi Labellisé Jeunes (TLJ) n°1
DESCRIPTION:
URL:https://www.lifb.org/evenement/tournoi-labellise-jeunes-tlj-n1/
LOCATION:Ermont
CATEGORIES:Compétitions Ligue
END:VEVENT
BEGIN:VEVENT
DTSTART;VALUE=DATE:20241025
DTEND;VALUE=DATE:20241026
DTSTAMP:20260423T190330
CREATED:20240912T094711Z
LAST-MODIFIED:20240912T094711Z
UID:20053-1729814400-1729900799@www.lifb.org
SUMMARY:Du Stade Vers l'Emploi à Saint-Maur (94)
DESCRIPTION:
URL:https://www.lifb.org/evenement/du-stade-vers-lemploi-a-saint-maur-94/
LOCATION:Saint-Maur-des-Fossés\, Saint-Maur-des-Fossés\, France
CATEGORIES:Développement
END:VEVENT
BEGIN:VEVENT
DTSTART;VALUE=DATE:20241026
DTEND;VALUE=DATE:20241028
DTSTAMP:20260423T190330
CREATED:20241001T110027Z
LAST-MODIFIED:20241001T110027Z
UID:20250-1729900800-1730073599@www.lifb.org
SUMMARY:Examen Arbitre de Ligue Accrédité (91)
DESCRIPTION:
URL:https://www.lifb.org/evenement/examen-arbitre-de-ligue-accredite-91-3/
LOCATION:Dourdan\, Dourdan\, 91410
CATEGORIES:Formations OT
END:VEVENT
BEGIN:VEVENT
DTSTART;VALUE=DATE:20241029
DTEND;VALUE=DATE:20241030
DTSTAMP:20260423T190330
CREATED:20240912T094759Z
LAST-MODIFIED:20240912T094759Z
UID:20055-1730160000-1730246399@www.lifb.org
SUMMARY:Du Stade Vers l'Emploi à Rosny-sous-Bois (93)
DESCRIPTION:
URL:https://www.lifb.org/evenement/du-stade-vers-lemploi-a-rosny-sous-bois-93/
LOCATION:Rosny-sous-Bois\, Rosny-sous-Bois\, 93110
CATEGORIES:Développement
END:VEVENT
BEGIN:VEVENT
DTSTART;VALUE=DATE:20241031
DTEND;VALUE=DATE:20241101
DTSTAMP:20260423T190330
CREATED:20240912T094943Z
LAST-MODIFIED:20240912T094943Z
UID:20057-1730332800-1730419199@www.lifb.org
SUMMARY:Du Stade Vers l'Emploi à Saint-Gratien (95)
DESCRIPTION:
URL:https://www.lifb.org/evenement/du-stade-vers-lemploi-a-saint-gratien-95/
LOCATION:Saint-Gratien\, Saint-Gratien\, 95210
CATEGORIES:Développement
END:VEVENT
END:VCALENDAR