BEGIN:VCALENDAR
VERSION:2.0
PRODID:-//Ligue Île-de-France de Badminton - ECPv6.5.1.6//NONSGML v1.0//EN
CALSCALE:GREGORIAN
METHOD:PUBLISH
X-ORIGINAL-URL:https://www.lifb.org
X-WR-CALDESC:évènements pour Ligue Île-de-France de Badminton
REFRESH-INTERVAL;VALUE=DURATION:PT1H
X-Robots-Tag:noindex
X-PUBLISHED-TTL:PT1H
BEGIN:VTIMEZONE
TZID:Europe/Paris
BEGIN:DAYLIGHT
TZOFFSETFROM:+0100
TZOFFSETTO:+0200
TZNAME:CEST
DTSTART:20240331T010000
END:DAYLIGHT
BEGIN:STANDARD
TZOFFSETFROM:+0200
TZOFFSETTO:+0100
TZNAME:CET
DTSTART:20241027T010000
END:STANDARD
END:VTIMEZONE
BEGIN:VEVENT
DTSTART;VALUE=DATE:20241101
DTEND;VALUE=DATE:20241104
DTSTAMP:20260423T162949
CREATED:20240617T132645Z
LAST-MODIFIED:20240618T085129Z
UID:19172-1730419200-1730678399@www.lifb.org
SUMMARY:Championnat de France Parabadminton
DESCRIPTION:
URL:https://www.lifb.org/evenement/championnat-de-france-parabadminton/
CATEGORIES:Compétitions Fédérales
END:VEVENT
BEGIN:VEVENT
DTSTART;VALUE=DATE:20241102
DTEND;VALUE=DATE:20241104
DTSTAMP:20260423T162949
CREATED:20241001T150445Z
LAST-MODIFIED:20241001T150445Z
UID:20266-1730505600-1730678399@www.lifb.org
SUMMARY:Formation Arbitre de Ligue Accrédité (95)
DESCRIPTION:
URL:https://www.lifb.org/evenement/formation-arbitre-de-ligue-accredite-95-3/
LOCATION:Herblay\, Herblay
CATEGORIES:Formations OT
END:VEVENT
BEGIN:VEVENT
DTSTART;VALUE=DATE:20241102
DTEND;VALUE=DATE:20241104
DTSTAMP:20260423T162949
CREATED:20240617T124418Z
LAST-MODIFIED:20240919T142340Z
UID:19139-1730505600-1730678399@www.lifb.org
SUMMARY:Circuit Régional Jeunes (CRJ) n°2
DESCRIPTION:
URL:https://www.lifb.org/evenement/circuit-regional-jeunes-crj-n2/
LOCATION:Évry\, Évry\, 91
CATEGORIES:Compétitions Ligue
END:VEVENT
BEGIN:VEVENT
DTSTART;TZID=Europe/Paris:20241107T200000
DTEND;TZID=Europe/Paris:20241107T220000
DTSTAMP:20260423T162949
CREATED:20241001T105402Z
LAST-MODIFIED:20241001T105448Z
UID:20244-1731009600-1731016800@www.lifb.org
SUMMARY:Formation GEO 1 - Format Hybride
DESCRIPTION:La LIFB vous propose une formation GEO hybride. \nElle se déroulera de la manière suivante : \n– 7 novembre 2024 : 20h00-22h00 – En visio\n– 12 novembre 2024 : 20h00-22h00 – En visio\n– 18 novembre 2024 : 20h00-22h00 – En visio\n– 26 novembre 2024 : 20h00-22h00 – En visio\n– 1er décembre 2024 : 9h00-18h00 – En présentiel au siège de la ligue (Paris XVII) \nVotre présence à l’ensemble des sessions en visio ainsi qu’à la journée en présentiel est impérative. \nPour toute information complémentaire\, n’hésitez pas à contacter le responsable par e-mail : dorian.brachet@lifb.org
URL:https://www.lifb.org/evenement/formation-modef/
LOCATION:Visioconférence\, Paris\, France
CATEGORIES:Formations GEO
END:VEVENT
BEGIN:VEVENT
DTSTART;TZID=Europe/Paris:20241109T080000
DTEND;TZID=Europe/Paris:20241111T170000
DTSTAMP:20260423T162949
CREATED:20240617T132736Z
LAST-MODIFIED:20240617T132736Z
UID:19174-1731139200-1731344400@www.lifb.org
SUMMARY:Championnat de France Vétérans
DESCRIPTION:
URL:https://www.lifb.org/evenement/championnat-de-france-veterans-2/
CATEGORIES:Compétitions Fédérales
END:VEVENT
BEGIN:VEVENT
DTSTART;TZID=Europe/Paris:20241114T190000
DTEND;TZID=Europe/Paris:20241114T235900
DTSTAMP:20260423T162949
CREATED:20241106T133936Z
LAST-MODIFIED:20241106T133956Z
UID:20756-1731610800-1731628740@www.lifb.org
SUMMARY:Événement 50 ans de la LIFB
DESCRIPTION:
URL:https://www.lifb.org/evenement/evenement-50-ans-de-la-lifb/
LOCATION:Paris 12e\, Paris\, 75012
CATEGORIES:Administration
END:VEVENT
BEGIN:VEVENT
DTSTART;TZID=Europe/Paris:20241116T080000
DTEND;TZID=Europe/Paris:20241117T170000
DTSTAMP:20260423T162949
CREATED:20240617T122255Z
LAST-MODIFIED:20240617T123634Z
UID:19118-1731744000-1731862800@www.lifb.org
SUMMARY:Interclubs Régionaux (ICR) - Journée n°2
DESCRIPTION:
URL:https://www.lifb.org/evenement/interclubs-regionaux-icr-journee-n2/
LOCATION:A définir
CATEGORIES:Compétitions Ligue
END:VEVENT
BEGIN:VEVENT
DTSTART;VALUE=DATE:20241123
DTEND;VALUE=DATE:20241125
DTSTAMP:20260423T162949
CREATED:20241001T110106Z
LAST-MODIFIED:20241001T110106Z
UID:20253-1732320000-1732492799@www.lifb.org
SUMMARY:Examen Arbitre de Ligue Accrédité (92)
DESCRIPTION:
URL:https://www.lifb.org/evenement/examen-arbitre-de-ligue-accredite-92/
LOCATION:Bourg-la-Reine
CATEGORIES:Formations OT
END:VEVENT
BEGIN:VEVENT
DTSTART;VALUE=DATE:20241123
DTEND;VALUE=DATE:20241125
DTSTAMP:20260423T162949
CREATED:20241106T133343Z
LAST-MODIFIED:20241106T133343Z
UID:20747-1732320000-1732492799@www.lifb.org
SUMMARY:Formation Arbitre de Ligue Accrédité (94)
DESCRIPTION:
URL:https://www.lifb.org/evenement/formation-arbitre-de-ligue-accredite-94-2/
LOCATION:Ivry\, Ivry-sur-Seine\, 94200
CATEGORIES:Formations OT
END:VEVENT
BEGIN:VEVENT
DTSTART;TZID=Europe/Paris:20241123T080000
DTEND;TZID=Europe/Paris:20241124T170000
DTSTAMP:20260423T162949
CREATED:20240617T124651Z
LAST-MODIFIED:20240617T124721Z
UID:19141-1732348800-1732467600@www.lifb.org
SUMMARY:Tournoi Labellisé Jeunes (TLJ) n°2
DESCRIPTION:
URL:https://www.lifb.org/evenement/tournois-labellise-jeunes-tlj-n2/
LOCATION:A définir
CATEGORIES:Compétitions Ligue
END:VEVENT
BEGIN:VEVENT
DTSTART;TZID=Europe/Paris:20241123T080000
DTEND;TZID=Europe/Paris:20241124T170000
DTSTAMP:20260423T162949
CREATED:20240617T135142Z
LAST-MODIFIED:20240617T135142Z
UID:19191-1732348800-1732467600@www.lifb.org
SUMMARY:Circuit Elite Jeunes (CEJ) n°2
DESCRIPTION:
URL:https://www.lifb.org/evenement/circuit-elite-jeunes-cej-n2/
LOCATION:A définir
CATEGORIES:Compétitions Fédérales
END:VEVENT
BEGIN:VEVENT
DTSTART;VALUE=DATE:20241126
DTEND;VALUE=DATE:20241127
DTSTAMP:20260423T162949
CREATED:20240912T095034Z
LAST-MODIFIED:20240912T095034Z
UID:20060-1732579200-1732665599@www.lifb.org
SUMMARY:Du Stade Vers l'Emploi à Paris XV
DESCRIPTION:
URL:https://www.lifb.org/evenement/du-stade-vers-lemploi-a-paris-xv/
LOCATION:Paris 15e\, Paris\, 75015\, France
CATEGORIES:Développement
END:VEVENT
BEGIN:VEVENT
DTSTART;VALUE=DATE:20241128
DTEND;VALUE=DATE:20241129
DTSTAMP:20260423T162949
CREATED:20241106T133154Z
LAST-MODIFIED:20241106T133154Z
UID:20745-1732752000-1732838399@www.lifb.org
SUMMARY:Formation Entraîneur Bénévole 1 – EB1 (95) - Format Hybride
DESCRIPTION:
URL:https://www.lifb.org/evenement/formation-entraineur-benevole-1-eb1-95-format-hybride/
LOCATION:Visioconférence\, Paris\, France
CATEGORIES:Formations encadrants
END:VEVENT
BEGIN:VEVENT
DTSTART;VALUE=DATE:20241130
DTEND;VALUE=DATE:20241202
DTSTAMP:20260423T162949
CREATED:20241001T104758Z
LAST-MODIFIED:20241001T104758Z
UID:20238-1732924800-1733097599@www.lifb.org
SUMMARY:Formation MODEF (91)
DESCRIPTION:
URL:https://www.lifb.org/evenement/formation-modef-91-2/
LOCATION:Mennecy\, Mennecy\, France
CATEGORIES:Formations encadrants
END:VEVENT
BEGIN:VEVENT
DTSTART;VALUE=DATE:20241130
DTEND;VALUE=DATE:20241202
DTSTAMP:20260423T162949
CREATED:20241001T150339Z
LAST-MODIFIED:20241001T150339Z
UID:20263-1732924800-1733097599@www.lifb.org
SUMMARY:Formation MODEF (78)
DESCRIPTION:
URL:https://www.lifb.org/evenement/formation-modef-78-2/
LOCATION:Mesnil-le-Roi\, Mesnil-le-Roi\, 78600
CATEGORIES:Formations encadrants
END:VEVENT
BEGIN:VEVENT
DTSTART;VALUE=DATE:20241130
DTEND;VALUE=DATE:20241202
DTSTAMP:20260423T162949
CREATED:20241106T132849Z
LAST-MODIFIED:20241106T132922Z
UID:20738-1732924800-1733097599@www.lifb.org
SUMMARY:Formation MODEF (94)
DESCRIPTION:
URL:https://www.lifb.org/evenement/modef-94/
LOCATION:Thiais\, Thiais
CATEGORIES:Formations encadrants
END:VEVENT
BEGIN:VEVENT
DTSTART;TZID=Europe/Paris:20241130T080000
DTEND;TZID=Europe/Paris:20241201T170000
DTSTAMP:20260423T162949
CREATED:20240617T122515Z
LAST-MODIFIED:20240617T123538Z
UID:19120-1732953600-1733072400@www.lifb.org
SUMMARY:Interclubs Régionaux (ICR) - Journée Rattrapage n°1
DESCRIPTION:
URL:https://www.lifb.org/evenement/interclubs-regionaux-icr-journee-rattrapage-n1/
LOCATION:A définir
CATEGORIES:Compétitions Ligue
END:VEVENT
END:VCALENDAR