BEGIN:VCALENDAR
VERSION:2.0
PRODID:-//Ligue Île-de-France de Badminton - ECPv6.5.1.6//NONSGML v1.0//EN
CALSCALE:GREGORIAN
METHOD:PUBLISH
X-ORIGINAL-URL:https://www.lifb.org
X-WR-CALDESC:évènements pour Ligue Île-de-France de Badminton
REFRESH-INTERVAL;VALUE=DURATION:PT1H
X-Robots-Tag:noindex
X-PUBLISHED-TTL:PT1H
BEGIN:VTIMEZONE
TZID:Europe/Paris
BEGIN:DAYLIGHT
TZOFFSETFROM:+0100
TZOFFSETTO:+0200
TZNAME:CEST
DTSTART:20250330T010000
END:DAYLIGHT
BEGIN:STANDARD
TZOFFSETFROM:+0200
TZOFFSETTO:+0100
TZNAME:CET
DTSTART:20251026T010000
END:STANDARD
END:VTIMEZONE
BEGIN:VEVENT
DTSTART;VALUE=DATE:20250111
DTEND;VALUE=DATE:20250112
DTSTAMP:20260423T132852
CREATED:20240617T125423Z
LAST-MODIFIED:20240617T125423Z
UID:19150-1736553600-1736639999@www.lifb.org
SUMMARY:Challenge Poussins
DESCRIPTION:
URL:https://www.lifb.org/evenement/challenge-poussins-2/
LOCATION:A définir
CATEGORIES:Compétitions Ligue
END:VEVENT
BEGIN:VEVENT
DTSTART;VALUE=DATE:20250111
DTEND;VALUE=DATE:20250113
DTSTAMP:20260423T132852
CREATED:20241106T133016Z
LAST-MODIFIED:20241106T133016Z
UID:20740-1736553600-1736726399@www.lifb.org
SUMMARY:Formation Entraîneur Bénévole 1 – EB1 (78)
DESCRIPTION:
URL:https://www.lifb.org/evenement/formation-entraineur-benevole-1-eb1-78/
LOCATION:Mesnil-le-Roi\, Mesnil-le-Roi\, 78600
CATEGORIES:Formations encadrants
END:VEVENT
BEGIN:VEVENT
DTSTART;TZID=Europe/Paris:20250111T080000
DTEND;TZID=Europe/Paris:20250112T170000
DTSTAMP:20260423T132852
CREATED:20240617T122610Z
LAST-MODIFIED:20240617T123529Z
UID:19122-1736582400-1736701200@www.lifb.org
SUMMARY:Interclubs Régionaux (ICR) - Journée n°3
DESCRIPTION:
URL:https://www.lifb.org/evenement/interclubs-regionaux-icr-journee-n3/
LOCATION:A définir
CATEGORIES:Compétitions Ligue
END:VEVENT
BEGIN:VEVENT
DTSTART;TZID=Europe/Paris:20250111T080000
DTEND;TZID=Europe/Paris:20250112T170000
DTSTAMP:20260423T132852
CREATED:20240617T132830Z
LAST-MODIFIED:20240617T133425Z
UID:19176-1736582400-1736701200@www.lifb.org
SUMMARY:Championnat de France Parabadminton
DESCRIPTION:
URL:https://www.lifb.org/evenement/championnat-de-france-parabadminton-2/
LOCATION:A définir
CATEGORIES:Compétitions Fédérales
END:VEVENT
BEGIN:VEVENT
DTSTART;VALUE=DATE:20250117
DTEND;VALUE=DATE:20250120
DTSTAMP:20260423T132852
CREATED:20240923T132112Z
LAST-MODIFIED:20240923T132308Z
UID:20203-1737072000-1737331199@www.lifb.org
SUMMARY:Brassage d'Accession au CEJ (BAC) n°2
DESCRIPTION:
URL:https://www.lifb.org/evenement/brassage-daccession-au-cej-bac-n2/
LOCATION:Bourges\, Bourges\, 18000
CATEGORIES:Compétitions Fédérales
END:VEVENT
BEGIN:VEVENT
DTSTART;VALUE=DATE:20250118
DTEND;VALUE=DATE:20250120
DTSTAMP:20260423T132852
CREATED:20241001T105203Z
LAST-MODIFIED:20250114T160929Z
UID:20240-1737158400-1737331199@www.lifb.org
SUMMARY:Formation Entraîneur Bénévole 1 - EB1 (91)
DESCRIPTION:Dates de formation :\n– 18/19 Janvier 2025\n– 22/23 Mars 2025\n– 5 Avril 2025\n– 5 Mai 2025\n– 18 Mai 2025
URL:https://www.lifb.org/evenement/formation-entraineur-benevole-1-eb1-91/
LOCATION:Mennecy & Étrechy
CATEGORIES:Formations encadrants
END:VEVENT
BEGIN:VEVENT
DTSTART;VALUE=DATE:20250118
DTEND;VALUE=DATE:20250119
DTSTAMP:20260423T132852
CREATED:20241106T132734Z
LAST-MODIFIED:20250114T160949Z
UID:20735-1737158400-1737244799@www.lifb.org
SUMMARY:Formation GEO 2
DESCRIPTION:
URL:https://www.lifb.org/evenement/formation-geo-2-4/
LOCATION:Paris 17e\, Paris\, 75017
CATEGORIES:Formations GEO
END:VEVENT
BEGIN:VEVENT
DTSTART;VALUE=DATE:20250119
DTEND;VALUE=DATE:20250120
DTSTAMP:20260423T132852
CREATED:20241210T154022Z
LAST-MODIFIED:20250114T160907Z
UID:21293-1737244800-1737331199@www.lifb.org
SUMMARY:Formation GEO 2
DESCRIPTION:
URL:https://www.lifb.org/evenement/formation-geo-2-5/
LOCATION:Paris 17e\, Paris\, 75017
CATEGORIES:Formations GEO
END:VEVENT
BEGIN:VEVENT
DTSTART;VALUE=DATE:20250123
DTEND;VALUE=DATE:20250127
DTSTAMP:20260423T132852
CREATED:20250120T155016Z
LAST-MODIFIED:20250120T155016Z
UID:21725-1737590400-1737935999@www.lifb.org
SUMMARY:RSL Iceland International 2025 à Reykjavik (Islande)
DESCRIPTION:
URL:https://www.lifb.org/evenement/rsl-iceland-international-2025-a-reykjavik-islande/
CATEGORIES:Compétition Internationales
END:VEVENT
BEGIN:VEVENT
DTSTART;VALUE=DATE:20250123
DTEND;VALUE=DATE:20250124
DTSTAMP:20260423T132852
CREATED:20250120T155140Z
LAST-MODIFIED:20250120T155140Z
UID:21729-1737590400-1737676799@www.lifb.org
SUMMARY:International Girl Cup U15 à Strasbourg (67)
DESCRIPTION:
URL:https://www.lifb.org/evenement/international-girl-cup-u15-a-strasbourg-67/
CATEGORIES:Compétition Internationales
END:VEVENT
BEGIN:VEVENT
DTSTART;VALUE=DATE:20250124
DTEND;VALUE=DATE:20250127
DTSTAMP:20260423T132852
CREATED:20250120T155104Z
LAST-MODIFIED:20250120T155104Z
UID:21727-1737676800-1737935999@www.lifb.org
SUMMARY:French International Borders à Strasbourg (67)
DESCRIPTION:
URL:https://www.lifb.org/evenement/french-international-borders-a-strasbourg-67/
CATEGORIES:Compétition Internationales
END:VEVENT
BEGIN:VEVENT
DTSTART;VALUE=DATE:20250125
DTEND;VALUE=DATE:20250127
DTSTAMP:20260423T132852
CREATED:20241216T153229Z
LAST-MODIFIED:20250114T160841Z
UID:21408-1737763200-1737935999@www.lifb.org
SUMMARY:Formation Arbitre de Ligue Accrédité (91)
DESCRIPTION:
URL:https://www.lifb.org/evenement/formation-arbitre-de-ligue-accredite-91-4/
LOCATION:Saint-Germain-lès-Corbeil\, Saint-Germain-lès-Corbeil\, 91250\, France
CATEGORIES:Formations OT
END:VEVENT
BEGIN:VEVENT
DTSTART;VALUE=DATE:20250125
DTEND;VALUE=DATE:20250127
DTSTAMP:20260423T132852
CREATED:20240617T125528Z
LAST-MODIFIED:20240726T135021Z
UID:19152-1737763200-1737935999@www.lifb.org
SUMMARY:Circuit Régional Jeunes (CRJ) n°3
DESCRIPTION:
URL:https://www.lifb.org/evenement/circuit-regional-jeunes-crj-n3/
LOCATION:Saint-Germain-lès-Corbeil\, Saint-Germain-lès-Corbeil\, 91250\, France
CATEGORIES:Compétitions Ligue
END:VEVENT
BEGIN:VEVENT
DTSTART;VALUE=DATE:20250131
DTEND;VALUE=DATE:20250203
DTSTAMP:20260423T132852
CREATED:20240617T132932Z
LAST-MODIFIED:20250120T155216Z
UID:19178-1738281600-1738540799@www.lifb.org
SUMMARY:Championnat de France Elite
DESCRIPTION:
URL:https://www.lifb.org/evenement/championnat-de-france-elite-3/
LOCATION:A définir
CATEGORIES:Compétitions Fédérales
END:VEVENT
END:VCALENDAR