BEGIN:VCALENDAR
VERSION:2.0
PRODID:-//Ligue Île-de-France de Badminton - ECPv6.5.1.6//NONSGML v1.0//EN
CALSCALE:GREGORIAN
METHOD:PUBLISH
X-ORIGINAL-URL:https://www.lifb.org
X-WR-CALDESC:évènements pour Ligue Île-de-France de Badminton
REFRESH-INTERVAL;VALUE=DURATION:PT1H
X-Robots-Tag:noindex
X-PUBLISHED-TTL:PT1H
BEGIN:VTIMEZONE
TZID:Europe/Paris
BEGIN:DAYLIGHT
TZOFFSETFROM:+0100
TZOFFSETTO:+0200
TZNAME:CEST
DTSTART:20250330T010000
END:DAYLIGHT
BEGIN:STANDARD
TZOFFSETFROM:+0200
TZOFFSETTO:+0100
TZNAME:CET
DTSTART:20251026T010000
END:STANDARD
END:VTIMEZONE
BEGIN:VEVENT
DTSTART;VALUE=DATE:20250131
DTEND;VALUE=DATE:20250203
DTSTAMP:20260423T120612
CREATED:20240617T132932Z
LAST-MODIFIED:20250120T155216Z
UID:19178-1738281600-1738540799@www.lifb.org
SUMMARY:Championnat de France Elite
DESCRIPTION:
URL:https://www.lifb.org/evenement/championnat-de-france-elite-3/
LOCATION:A définir
CATEGORIES:Compétitions Fédérales
END:VEVENT
BEGIN:VEVENT
DTSTART;VALUE=DATE:20250206
DTEND;VALUE=DATE:20250210
DTSTAMP:20260423T120612
CREATED:20250120T155251Z
LAST-MODIFIED:20250120T155251Z
UID:21732-1738800000-1739145599@www.lifb.org
SUMMARY:15th Multi Alarm Hungarian Junior Championships 2025 presented by VICTOR à Pécs (Hongrie)
DESCRIPTION:
URL:https://www.lifb.org/evenement/15th-multi-alarm-hungarian-junior-championships-2025-presented-by-victor-a-pecs-hongrie/
CATEGORIES:Compétition Internationales
END:VEVENT
BEGIN:VEVENT
DTSTART;VALUE=DATE:20250208
DTEND;VALUE=DATE:20250210
DTSTAMP:20260423T120612
CREATED:20240617T122653Z
LAST-MODIFIED:20240618T084705Z
UID:19124-1738972800-1739145599@www.lifb.org
SUMMARY:Interclubs Régionaux (ICR) - Journée n°4
DESCRIPTION:
URL:https://www.lifb.org/evenement/interclubs-regionaux-icr-journee-n4/
LOCATION:A définir
CATEGORIES:Compétitions Ligue
END:VEVENT
BEGIN:VEVENT
DTSTART;VALUE=DATE:20250208
DTEND;VALUE=DATE:20250210
DTSTAMP:20260423T120612
CREATED:20240617T135459Z
LAST-MODIFIED:20240618T084634Z
UID:19195-1738972800-1739145599@www.lifb.org
SUMMARY:Circuit Elite Jeunes (CEJ) n°4
DESCRIPTION:
URL:https://www.lifb.org/evenement/circuit-elite-jeunes-cej-n4/
LOCATION:A définir
CATEGORIES:Compétitions Fédérales
END:VEVENT
BEGIN:VEVENT
DTSTART;VALUE=DATE:20250211
DTEND;VALUE=DATE:20250212
DTSTAMP:20260423T120612
CREATED:20250120T155336Z
LAST-MODIFIED:20250129T144142Z
UID:21734-1739232000-1739318399@www.lifb.org
SUMMARY:"Du Stade Vers l'Emploi" à Torcy (77)
DESCRIPTION:
URL:https://www.lifb.org/evenement/du-stade-vers-l-emploi-a-torcy-77/
LOCATION:Torcy\, Torcy
CATEGORIES:Développement
END:VEVENT
BEGIN:VEVENT
DTSTART;VALUE=DATE:20250212
DTEND;VALUE=DATE:20250217
DTSTAMP:20260423T120612
CREATED:20250120T155745Z
LAST-MODIFIED:20250120T155745Z
UID:21738-1739318400-1739750399@www.lifb.org
SUMMARY:2025 European Mixed Team Championships à Baku (Azerbaïdjan)
DESCRIPTION:
URL:https://www.lifb.org/evenement/2025-european-mixed-team-championships-a-baku-azerbaidjan/
CATEGORIES:Compétition Internationales
END:VEVENT
BEGIN:VEVENT
DTSTART;VALUE=DATE:20250213
DTEND;VALUE=DATE:20250216
DTSTAMP:20260423T120612
CREATED:20250120T155413Z
LAST-MODIFIED:20250120T155413Z
UID:21736-1739404800-1739663999@www.lifb.org
SUMMARY:YONEX France U17 Open 2025 à Air-sur-la-Lys (62)
DESCRIPTION:
URL:https://www.lifb.org/evenement/yonex-france-u17-open-2025-a-air-sur-la-lys-62/
CATEGORIES:Compétition Internationales
END:VEVENT
BEGIN:VEVENT
DTSTART;VALUE=DATE:20250215
DTEND;VALUE=DATE:20250217
DTSTAMP:20260423T120612
CREATED:20240617T125637Z
LAST-MODIFIED:20240618T084614Z
UID:19154-1739577600-1739750399@www.lifb.org
SUMMARY:Tournoi Labellisé Jeunes (TLJ) n°4
DESCRIPTION:
URL:https://www.lifb.org/evenement/tournoi-labellise-jeunes-tlj-n4/
LOCATION:A définir
CATEGORIES:Compétitions Ligue
END:VEVENT
BEGIN:VEVENT
DTSTART;VALUE=DATE:20250219
DTEND;VALUE=DATE:20250224
DTSTAMP:20260423T120612
CREATED:20250120T155816Z
LAST-MODIFIED:20250120T155816Z
UID:21740-1739923200-1740355199@www.lifb.org
SUMMARY:8 Nations U15 en Suède
DESCRIPTION:
URL:https://www.lifb.org/evenement/8-nations-u15-en-suede/
CATEGORIES:Compétition Internationales
END:VEVENT
BEGIN:VEVENT
DTSTART;VALUE=DATE:20250225
DTEND;VALUE=DATE:20250226
DTSTAMP:20260423T120612
CREATED:20250224T155501Z
LAST-MODIFIED:20250224T155501Z
UID:22231-1740441600-1740527999@www.lifb.org
SUMMARY:Sport en Mixte CROSIF à Gentilly (94)
DESCRIPTION:
URL:https://www.lifb.org/evenement/sport-en-mixte-crosif-a-gentilly-94/
CATEGORIES:Développement
END:VEVENT
BEGIN:VEVENT
DTSTART;VALUE=DATE:20250226
DTEND;VALUE=DATE:20250303
DTSTAMP:20260423T120612
CREATED:20250120T155849Z
LAST-MODIFIED:20250120T155849Z
UID:21742-1740528000-1740959999@www.lifb.org
SUMMARY:YONEX Dutch Junior International 2025 à Haarlem (Pays-Bas)
DESCRIPTION:
URL:https://www.lifb.org/evenement/yonex-dutch-junior-international-2025-a-haarlem-pays-bas/
CATEGORIES:Compétition Internationales
END:VEVENT
END:VCALENDAR